BEGIN:VCALENDAR
VERSION:2.0
PRODID:-//pretix//pretix.eu//
BEGIN:VTIMEZONE
TZID:Europe/Berlin
BEGIN:STANDARD
DTSTART:20001029T040000
RRULE:FREQ=YEARLY;BYDAY=-1SU;BYMONTH=10
TZNAME:CET
TZOFFSETFROM:+0200
TZOFFSETTO:+0100
END:STANDARD
BEGIN:DAYLIGHT
DTSTART:20000326T030000
RRULE:FREQ=YEARLY;BYDAY=-1SU;BYMONTH=3
TZNAME:CEST
TZOFFSETFROM:+0100
TZOFFSETTO:+0200
END:DAYLIGHT
END:VTIMEZONE
BEGIN:VEVENT
UID:pretix-alex-bolland-3rmfh-0@alex-bolland.fairetickets.de
DTSTART;TZID=Europe/Berlin:20250715T193000
DTEND;TZID=Europe/Berlin:20250715T203000
DESCRIPTION:Tickets: https://alex-bolland.fairetickets.de/3rmfh/\nEinlass: 
 15.07.2025 18:00\nVeranstalter: Alex Bolland
DTSTAMP:20260420T155853Z
LOCATION:Prüfeninger Schlossgarten\, Prüfeninger Schloßstraße 75\, 9305
 1 Regensburg
SUMMARY:XX Thomas Gansch - Blasmusik Supergroup
END:VEVENT
END:VCALENDAR
